BEGIN:VCALENDAR
VERSION:2.0
PRODID:-//Il Tocco dell Anima - ECPv6.3.5//NONSGML v1.0//EN
CALSCALE:GREGORIAN
METHOD:PUBLISH
X-ORIGINAL-URL:https://iltoccodellanimaepigenetica.com
X-WR-CALDESC:Eventi per Il Tocco dell Anima
REFRESH-INTERVAL;VALUE=DURATION:PT1H
X-Robots-Tag:noindex
X-PUBLISHED-TTL:PT1H
BEGIN:VTIMEZONE
TZID:UTC
BEGIN:STANDARD
TZOFFSETFROM:+0000
TZOFFSETTO:+0000
TZNAME:UTC
DTSTART:20240101T000000
END:STANDARD
END:VTIMEZONE
BEGIN:VEVENT
DTSTART;TZID=UTC:20240511T093000
DTEND;TZID=UTC:20240512T193000
DTSTAMP:20260426T042256
CREATED:20240325T191708Z
LAST-MODIFIED:20240325T214756Z
UID:257193-1715419800-1715542200@iltoccodellanimaepigenetica.com
SUMMARY:Memorie Uterine: Risveglia il tuo potere
DESCRIPTION:Vieni a ricordare assieme e a co-creare un mondo nuovo\, in un cerchio di sorellanza dove ogni maschera cade\, permettendoti di manifestarti e mostrare la tua umanità\, che profuma di divinità in una spazio sicuro di amore e accoglienza in un tempo senza tempo per tornare a casa. \nQuesto ritiro esperienziale include movimento somatico\, canto curativo\, atti psicomagici\, ritualità e medicina del cacao. \nSabato 11 Maggio \n\nOre 9:30 Ritrovo\nOre 10:00 Inizio del lavoro\nOre 13:00 Pranzo condiviso\nOre 14:00 Ripresa del lavoro\nOre 19:00 Cena Bio offerta dalla casa Ore 20:00 Cerimonia di Cacao\n\nDomenica 12 Maggio \n\nOre 8:00 sveglia\nOre 8:30 colazione leggera e preparazione spazio Ore 9:30 Inizio del lavoro\nOre 12:30 Pranzo Bio offerto dalla casa\nOre 13:30 Ripresa del lavoro\nOre 19:30 Conclusione\n\n11-12 Maggio 2024 Quero (BL) \nPer ulteriori informazioni\, mandami un messaggio via WhatsApp. \nOppure iscriviti ora.
URL:https://iltoccodellanimaepigenetica.com/evento/memorie-uterine-risveglia-il-tuo-potere/
LOCATION:Yurta Aldilà della Luna\, Quero\, Belluno\, Italia
ATTACH;FMTTYPE=image/png:https://iltoccodellanimaepigenetica.com/wp-content/uploads/2023/12/Il-Tocco-dell-anima-Hero-banner.png
END:VEVENT
END:VCALENDAR